BEGIN:VCALENDAR
VERSION:2.0
PRODID:-//Cipem - ECPv6.15.18//NONSGML v1.0//EN
CALSCALE:GREGORIAN
METHOD:PUBLISH
X-WR-CALNAME:Cipem
X-ORIGINAL-URL:https://cipem.org.ec
X-WR-CALDESC:Eventos para Cipem
REFRESH-INTERVAL;VALUE=DURATION:PT1H
X-Robots-Tag:noindex
X-PUBLISHED-TTL:PT1H
BEGIN:VTIMEZONE
TZID:America/New_York
BEGIN:DAYLIGHT
TZOFFSETFROM:-0500
TZOFFSETTO:-0400
TZNAME:EDT
DTSTART:20220313T070000
END:DAYLIGHT
BEGIN:STANDARD
TZOFFSETFROM:-0400
TZOFFSETTO:-0500
TZNAME:EST
DTSTART:20221106T060000
END:STANDARD
BEGIN:DAYLIGHT
TZOFFSETFROM:-0500
TZOFFSETTO:-0400
TZNAME:EDT
DTSTART:20230312T070000
END:DAYLIGHT
BEGIN:STANDARD
TZOFFSETFROM:-0400
TZOFFSETTO:-0500
TZNAME:EST
DTSTART:20231105T060000
END:STANDARD
BEGIN:DAYLIGHT
TZOFFSETFROM:-0500
TZOFFSETTO:-0400
TZNAME:EDT
DTSTART:20240310T070000
END:DAYLIGHT
BEGIN:STANDARD
TZOFFSETFROM:-0400
TZOFFSETTO:-0500
TZNAME:EST
DTSTART:20241103T060000
END:STANDARD
END:VTIMEZONE
BEGIN:VEVENT
DTSTART;VALUE=DATE:20230528
DTEND;VALUE=DATE:20230529
DTSTAMP:20260422T234103
CREATED:20230426T151204Z
LAST-MODIFIED:20230519T203419Z
UID:10000001-1685232000-1685318399@cipem.org.ec
SUMMARY:La Mujer y la Empresa\, ¿cómo cumplir mis objetivos profesionales?
DESCRIPTION:Las mujeres en el campo de los negocios han construido sus propias rutas con una agenda que muchas veces es silenciosa\, incómoda y sujeta a la sintonía social\, política y económica del momento. Esas mujeres que han trizado esquemas y que hoy en día representan lo que nuevas generaciones dan por sentado\, son las que comparten su experiencia\, vivencia y guían desde la perspectiva femenina a crear y fortalecer el actuar empresarial\, interesándose\, formándose y siendo totalmente capaces de ser líderes en su gestión. \nLink Evento Aquí
URL:https://cipem.org.ec/evento/la-mujer-y-la-empresa-como-cumplir-mis-objetivos-profesionales/
LOCATION:Cámara de industrias\, Florencia Astudillo Edificio Cámara de Industiras\, Cuenca\, Azuay\, 010204\, Ecuador
ATTACH;FMTTYPE=image/jpeg:https://cipem.org.ec/wp-content/uploads/2023/04/CIPEM-LA-MUJER-Y-LA-EMPRESA.jpg
END:VEVENT
BEGIN:VEVENT
DTSTART;VALUE=DATE:20230527
DTEND;VALUE=DATE:20230528
DTSTAMP:20260422T234103
CREATED:20230426T152522Z
LAST-MODIFIED:20230519T203455Z
UID:10000002-1685145600-1685231999@cipem.org.ec
SUMMARY:Cercanos a ti. Desayuno anual de afiliados CIPEM
DESCRIPTION:Este espacio presentó nuestro renovado brochure de servicios\, beneficios y proyectos\, con el fin de apoyar a nuestros afiliados en el desarrollo de sus buenas prácticas del quehacer empresarial\, los negocios y otros asuntos de interés. Además Santiago Basabe nos expuso los temas más relevantes en torno al panorama político: escenarios y desafíos para el sector productivo. \nLink Evento Aquí
URL:https://cipem.org.ec/evento/cercanos-a-ti-desayuno-anual-de-afiliados-cipem/
LOCATION:Cámara de industrias\, Florencia Astudillo Edificio Cámara de Industiras\, Cuenca\, Azuay\, 010204\, Ecuador
ATTACH;FMTTYPE=image/jpeg:https://cipem.org.ec/wp-content/uploads/2023/04/CIPEM-CERCANOS-A-TI.jpg
END:VEVENT
END:VCALENDAR