BEGIN:VCALENDAR
VERSION:2.0
PRODID:-//Cipem - ECPv6.15.18//NONSGML v1.0//EN
CALSCALE:GREGORIAN
METHOD:PUBLISH
X-ORIGINAL-URL:https://cipem.org.ec
X-WR-CALDESC:Eventos para Cipem
REFRESH-INTERVAL;VALUE=DURATION:PT1H
X-Robots-Tag:noindex
X-PUBLISHED-TTL:PT1H
BEGIN:VTIMEZONE
TZID:America/New_York
BEGIN:DAYLIGHT
TZOFFSETFROM:-0500
TZOFFSETTO:-0400
TZNAME:EDT
DTSTART:20220313T070000
END:DAYLIGHT
BEGIN:STANDARD
TZOFFSETFROM:-0400
TZOFFSETTO:-0500
TZNAME:EST
DTSTART:20221106T060000
END:STANDARD
BEGIN:DAYLIGHT
TZOFFSETFROM:-0500
TZOFFSETTO:-0400
TZNAME:EDT
DTSTART:20230312T070000
END:DAYLIGHT
BEGIN:STANDARD
TZOFFSETFROM:-0400
TZOFFSETTO:-0500
TZNAME:EST
DTSTART:20231105T060000
END:STANDARD
BEGIN:DAYLIGHT
TZOFFSETFROM:-0500
TZOFFSETTO:-0400
TZNAME:EDT
DTSTART:20240310T070000
END:DAYLIGHT
BEGIN:STANDARD
TZOFFSETFROM:-0400
TZOFFSETTO:-0500
TZNAME:EST
DTSTART:20241103T060000
END:STANDARD
BEGIN:DAYLIGHT
TZOFFSETFROM:-0500
TZOFFSETTO:-0400
TZNAME:EDT
DTSTART:20250309T070000
END:DAYLIGHT
BEGIN:STANDARD
TZOFFSETFROM:-0400
TZOFFSETTO:-0500
TZNAME:EST
DTSTART:20251102T060000
END:STANDARD
BEGIN:DAYLIGHT
TZOFFSETFROM:-0500
TZOFFSETTO:-0400
TZNAME:EDT
DTSTART:20260308T070000
END:DAYLIGHT
BEGIN:STANDARD
TZOFFSETFROM:-0400
TZOFFSETTO:-0500
TZNAME:EST
DTSTART:20261101T060000
END:STANDARD
BEGIN:DAYLIGHT
TZOFFSETFROM:-0500
TZOFFSETTO:-0400
TZNAME:EDT
DTSTART:20270314T070000
END:DAYLIGHT
BEGIN:STANDARD
TZOFFSETFROM:-0400
TZOFFSETTO:-0500
TZNAME:EST
DTSTART:20271107T060000
END:STANDARD
END:VTIMEZONE
BEGIN:VEVENT
DTSTART;TZID=America/New_York:20260324T080000
DTEND;TZID=America/New_York:20260324T110000
DTSTAMP:20260422T152847
CREATED:20260311T144156Z
LAST-MODIFIED:20260311T144156Z
UID:10000028-1774339200-1774350000@cipem.org.ec
SUMMARY:CERCANOS A TI
DESCRIPTION:Desayuno diseñado exclusivamente para nuestros afiliados. Un espacio ideal para conectar con propietarios de empresas y gerentes\, fortalecer su red de contactos y conocer de primera mano los proyectos y servicios de CIPEM para este 2026.
URL:https://cipem.org.ec/evento/cercanos-a-ti/
LOCATION:Jardines de San Joaquin\, Cuenca\, Azuay
ATTACH;FMTTYPE=image/jpeg:https://cipem.org.ec/wp-content/uploads/2026/03/EVENTO_Save-the-date_Cercanos-a-ti.jpg
END:VEVENT
BEGIN:VEVENT
DTSTART;TZID=America/New_York:20251126T190000
DTEND;TZID=America/New_York:20251126T213000
DTSTAMP:20260422T152847
CREATED:20250611T163351Z
LAST-MODIFIED:20251112T220856Z
UID:10000026-1764183600-1764192600@cipem.org.ec
SUMMARY:Sesión Solemne 89 años
DESCRIPTION:Nuestro gremio conmemora cada año su trayectoria institucional siendo el evento más importante de nuestra organización. Es un espacio donde homenajeamos y reconocemos la mano de obra del sector productivo.
URL:https://cipem.org.ec/evento/sesion-solemne-89-anos/
ATTACH;FMTTYPE=image/jpeg:https://cipem.org.ec/wp-content/uploads/2025/06/portada-sesion.jpg
END:VEVENT
BEGIN:VEVENT
DTSTART;TZID=America/New_York:20251022T080000
DTEND;TZID=America/New_York:20251022T170000
DTSTAMP:20260422T152847
CREATED:20250611T163031Z
LAST-MODIFIED:20250611T163031Z
UID:10000025-1761120000-1761152400@cipem.org.ec
SUMMARY:II Edición Expoindustria
DESCRIPTION:La feria industrial más importante del Ecuador a nivel multisectorial.\nReúna a importantes empresas nacionales\, líderes e innovadoras en su sector para participar de un espacio destacado en donde exhiben sus marcas\, productos y servicios.
URL:https://cipem.org.ec/evento/ii-edicion-expoindustria/
LOCATION:Centro de Convenciones Mall del Rio
ATTACH;FMTTYPE=image/jpeg:https://cipem.org.ec/wp-content/uploads/2025/06/expoindustrias_portada.jpg
END:VEVENT
BEGIN:VEVENT
DTSTART;TZID=America/New_York:20250924T080000
DTEND;TZID=America/New_York:20250924T170000
DTSTAMP:20260422T152847
CREATED:20250611T162454Z
LAST-MODIFIED:20250822T171722Z
UID:10000024-1758700800-1758733200@cipem.org.ec
SUMMARY:I Congreso de Sostenibilidad
DESCRIPTION:Consiste en un evento enfocado en eficiencia energética\, responsabilidad social\, género y economía circular\, a partir del cual las empresas participantes contarán con herramientas y buenas prácticas para implementar en sus organizaciones.
URL:https://cipem.org.ec/evento/i-congreso-de-sostenibilidad/
ATTACH;FMTTYPE=image/jpeg:https://cipem.org.ec/wp-content/uploads/2025/06/images.jpeg
END:VEVENT
BEGIN:VEVENT
DTSTART;TZID=America/New_York:20250710T083000
DTEND;TZID=America/New_York:20250710T170000
DTSTAMP:20260422T152847
CREATED:20250611T162043Z
LAST-MODIFIED:20250611T162043Z
UID:10000023-1752136200-1752166800@cipem.org.ec
SUMMARY:II Congreso de Comercio Exterior
DESCRIPTION:Este congreso brinda a sus participantes información actualizada y dota de herramientas útiles que permitirán mejorar los procesos de comercio exterior y promover la internacionalización de las empresas ecuatorianas\, así como generar un espacio para crear nuevas alianzas estratégicas en el sector productivo del Austro.
URL:https://cipem.org.ec/evento/ii-congreso-de-comercio-exterior/
LOCATION:Hotel Oro Verde\, Cuenca\, Ordoñez Lasso\, Cuenca\, Azuay\, EC010150\, Ecuador
ATTACH;FMTTYPE=image/jpeg:https://cipem.org.ec/wp-content/uploads/2025/06/II-Congreso_portada.jpg
END:VEVENT
BEGIN:VEVENT
DTSTART;TZID=America/New_York:20250508T080000
DTEND;TZID=America/New_York:20250508T170000
DTSTAMP:20260422T152847
CREATED:20250611T161418Z
LAST-MODIFIED:20250611T161418Z
UID:10000022-1746691200-1746723600@cipem.org.ec
SUMMARY:III Congreso de Transformación Digital enfocado en Marketing Digital y Operaciones 6.0
DESCRIPTION:Evento cuyo objetivo es entender el efecto que tienen las decisiones de marketing tradicional y digital en las operaciones de una empresa\, y cómo todas las áreas deben reorganizarse alineando sus procesos\, equipos\, administración del conocimiento y tecnología para lograr implementar acciones ganadoras hacia el mercado y eficientes hacia la organización.
URL:https://cipem.org.ec/evento/iii-congreso-de-transformacion-digital-enfocado-en-marketing-digital-y-operaciones-6-0/
ATTACH;FMTTYPE=image/jpeg:https://cipem.org.ec/wp-content/uploads/2025/06/Portada-congreso-TD.jpg
END:VEVENT
BEGIN:VEVENT
DTSTART;TZID=America/New_York:20240912T090000
DTEND;TZID=America/New_York:20240913T210000
DTSTAMP:20260422T152847
CREATED:20240827T153018Z
LAST-MODIFIED:20240827T153018Z
UID:10000021-1726131600-1726261200@cipem.org.ec
SUMMARY:Expoindustria Cuenca 2024
DESCRIPTION:
URL:https://cipem.org.ec/evento/expoindustria-cuenca-2024/
ATTACH;FMTTYPE=image/jpeg:https://cipem.org.ec/wp-content/uploads/2024/08/WhatsApp-Image-2024-08-27-at-9.14.18-AM.jpeg
END:VEVENT
BEGIN:VEVENT
DTSTART;TZID=America/New_York:20240704T083000
DTEND;TZID=America/New_York:20240704T170000
DTSTAMP:20260422T152847
CREATED:20240527T153126Z
LAST-MODIFIED:20240527T153126Z
UID:10000019-1720081800-1720112400@cipem.org.ec
SUMMARY:I Congreso Comercio Exterior
DESCRIPTION:
URL:https://cipem.org.ec/evento/i-congreso-comercio-exterior/
ATTACH;FMTTYPE=image/jpeg:https://cipem.org.ec/wp-content/uploads/2024/05/WhatsApp-Image-2024-05-27-at-10.28.12-AM.jpeg
END:VEVENT
BEGIN:VEVENT
DTSTART;TZID=America/New_York:20240614T100000
DTEND;TZID=America/New_York:20240614T113000
DTSTAMP:20260422T152847
CREATED:20240606T214250Z
LAST-MODIFIED:20240606T214250Z
UID:10000020-1718359200-1718364600@cipem.org.ec
SUMMARY:Incentivo de deducibilidad por la inversión en el desarrollo de propuestas artísticas y culturales
DESCRIPTION:
URL:https://cipem.org.ec/evento/incentivo-de-deducibilidad-por-la-inversion-en-el-desarrollo-de-propuestas-artisticas-y-culturales/
ATTACH;FMTTYPE=image/jpeg:https://cipem.org.ec/wp-content/uploads/2024/06/Arte-para-Instagram-scaled.jpg
END:VEVENT
BEGIN:VEVENT
DTSTART;TZID=America/New_York:20240516T100000
DTEND;TZID=America/New_York:20240516T113000
DTSTAMP:20260422T152847
CREATED:20240515T174813Z
LAST-MODIFIED:20240515T174813Z
UID:10000018-1715853600-1715859000@cipem.org.ec
SUMMARY:¿Cambió el Ecuador? La Política y la Economía Post Consulta y FMI
DESCRIPTION:
URL:https://cipem.org.ec/evento/cambio-el-ecuador-la-politica-y-la-economia-post-consulta-y-fmi/
ATTACH;FMTTYPE=image/jpeg:https://cipem.org.ec/wp-content/uploads/2024/05/WhatsApp-Image-2024-05-13-at-10.13.46-AM-3.jpeg
END:VEVENT
BEGIN:VEVENT
DTSTART;TZID=America/New_York:20240301T083000
DTEND;TZID=America/New_York:20240301T100000
DTSTAMP:20260422T152847
CREATED:20240215T161605Z
LAST-MODIFIED:20240215T161718Z
UID:10000017-1709281800-1709287200@cipem.org.ec
SUMMARY:PAGO Y REGISTRO DE UTILIDADES
DESCRIPTION:
URL:https://cipem.org.ec/evento/pago-y-registro-de-utilidades/
ATTACH;FMTTYPE=image/jpeg:https://cipem.org.ec/wp-content/uploads/2024/02/WhatsApp-Image-2024-02-15-at-11.11.13-AM-1.jpeg
END:VEVENT
BEGIN:VEVENT
DTSTART;TZID=America/New_York:20240220T180000
DTEND;TZID=America/New_York:20240220T190000
DTSTAMP:20260422T152847
CREATED:20240215T160656Z
LAST-MODIFIED:20240215T160656Z
UID:10000016-1708452000-1708455600@cipem.org.ec
SUMMARY:WEBINAR: OPERACIÓN DE UN GOBIERNO CORPORATIVO DE ALTO IMPACTO
DESCRIPTION:
URL:https://cipem.org.ec/evento/webinar-operacion-de-un-gobierno-corporativo-de-alto-impacto/
ATTACH;FMTTYPE=image/jpeg:https://cipem.org.ec/wp-content/uploads/2024/02/WhatsApp-Image-2024-02-15-at-10.56.08-AM.jpeg
END:VEVENT
BEGIN:VEVENT
DTSTART;TZID=America/New_York:20240206T080000
DTEND;TZID=America/New_York:20240206T113000
DTSTAMP:20260422T152847
CREATED:20240201T202515Z
LAST-MODIFIED:20240201T202515Z
UID:10000015-1707206400-1707219000@cipem.org.ec
SUMMARY:OPTIMIZACIÓN DEL FLUJO DE EFECTIVO Generando y Negociando Notas de Crédito SRI
DESCRIPTION:
URL:https://cipem.org.ec/evento/optimizacion-del-flujo-de-efectivo-generando-y-negociando-notas-de-credito-sri/
ATTACH;FMTTYPE=image/jpeg:https://cipem.org.ec/wp-content/uploads/2024/02/WhatsApp-Image-2024-02-01-at-9.50.51-AM.jpeg
END:VEVENT
BEGIN:VEVENT
DTSTART;TZID=America/New_York:20240117T090000
DTEND;TZID=America/New_York:20240117T103000
DTSTAMP:20260422T152847
CREATED:20240108T140953Z
LAST-MODIFIED:20240108T140953Z
UID:10000014-1705482000-1705487400@cipem.org.ec
SUMMARY:NAVEGANDO EL REGLAMENTO DE PROTECCIÓN DE DATOS
DESCRIPTION:
URL:https://cipem.org.ec/evento/navegando-el-reglamento-de-proteccion-de-datos/
ATTACH;FMTTYPE=image/jpeg:https://cipem.org.ec/wp-content/uploads/2024/01/Taller-Ecija_2.jpg
END:VEVENT
BEGIN:VEVENT
DTSTART;TZID=America/New_York:20231212T090000
DTEND;TZID=America/New_York:20231212T130000
DTSTAMP:20260422T152847
CREATED:20231205T175032Z
LAST-MODIFIED:20231205T175126Z
UID:10000013-1702371600-1702386000@cipem.org.ec
SUMMARY:ADECUADO CIERRE FISCAL 2023
DESCRIPTION:
URL:https://cipem.org.ec/evento/adecuado-cierre-fiscal-2023/
ATTACH;FMTTYPE=image/jpeg:https://cipem.org.ec/wp-content/uploads/2023/12/WhatsApp-Image-2023-12-04-at-10.19.47-AM.jpeg
END:VEVENT
BEGIN:VEVENT
DTSTART;TZID=America/New_York:20231025T090000
DTEND;TZID=America/New_York:20231025T120000
DTSTAMP:20260422T152847
CREATED:20231016T204959Z
LAST-MODIFIED:20231016T224845Z
UID:10000012-1698224400-1698235200@cipem.org.ec
SUMMARY:Ley Orgánica de Protección de Datos Personales
DESCRIPTION:
URL:https://cipem.org.ec/evento/ley-organica-de-proteccion-de-datos-personales/
LOCATION:Cámara de industrias\, Florencia Astudillo Edificio Cámara de Industiras\, Cuenca\, Azuay\, 010204\, Ecuador
ATTACH;FMTTYPE=image/jpeg:https://cipem.org.ec/wp-content/uploads/2023/10/Taller_h-1.jpg
END:VEVENT
BEGIN:VEVENT
DTSTART;TZID=America/New_York:20231004T100000
DTEND;TZID=America/New_York:20231004T130000
DTSTAMP:20260422T152847
CREATED:20231002T140513Z
LAST-MODIFIED:20231002T140513Z
UID:10000011-1696413600-1696424400@cipem.org.ec
SUMMARY:SEGURIDAD Y CONTROL ANTINARCÓTICOS EN LAS EXPORTACIONES
DESCRIPTION:
URL:https://cipem.org.ec/evento/seguridad-y-control-antinarcoticos-en-las-exportaciones/
LOCATION:Cámara de industrias\, Florencia Astudillo Edificio Cámara de Industiras\, Cuenca\, Azuay\, 010204\, Ecuador
ATTACH;FMTTYPE=image/jpeg:https://cipem.org.ec/wp-content/uploads/2023/10/WhatsApp-Image-2023-09-27-at-9.42.49-AM-1.jpeg
END:VEVENT
BEGIN:VEVENT
DTSTART;TZID=America/New_York:20231003T090000
DTEND;TZID=America/New_York:20231003T100000
DTSTAMP:20260422T152847
CREATED:20230926T144955Z
LAST-MODIFIED:20230926T145709Z
UID:10000010-1696323600-1696327200@cipem.org.ec
SUMMARY:Webinar “Inversión\, Financiamiento y Liquidez a través del mercado de valores”
DESCRIPTION:
URL:https://cipem.org.ec/evento/webinar-inversion-financiamiento-y-liquidez-a-traves-del-mercado-de-valores/
LOCATION:Cámara de industrias\, Florencia Astudillo Edificio Cámara de Industiras\, Cuenca\, Azuay\, 010204\, Ecuador
ATTACH;FMTTYPE=image/jpeg:https://cipem.org.ec/wp-content/uploads/2023/09/WhatsApp-Image-2023-09-26-at-9.55.46-AM.jpeg
END:VEVENT
BEGIN:VEVENT
DTSTART;TZID=America/New_York:20230926T100000
DTEND;TZID=America/New_York:20230926T123000
DTSTAMP:20260422T152847
CREATED:20230822T174439Z
LAST-MODIFIED:20230822T174554Z
UID:10000007-1695722400-1695731400@cipem.org.ec
SUMMARY:Workshop sobre Innovación Social Corporativa
DESCRIPTION:40 cupos disponibles para empresas afiliadas a CIPEM
URL:https://cipem.org.ec/evento/workshop-sobre-innovacion-social-corporativa/
LOCATION:Cámara de industrias\, Florencia Astudillo Edificio Cámara de Industiras\, Cuenca\, Azuay\, 010204\, Ecuador
ATTACH;FMTTYPE=image/jpeg:https://cipem.org.ec/wp-content/uploads/2023/08/WhatsApp-Image-2023-08-17-at-9.26.40-AM.jpeg
END:VEVENT
BEGIN:VEVENT
DTSTART;TZID=America/New_York:20230921T083000
DTEND;TZID=America/New_York:20230921T130000
DTSTAMP:20260422T152847
CREATED:20230905T171810Z
LAST-MODIFIED:20230905T172147Z
UID:10000008-1695285000-1695301200@cipem.org.ec
SUMMARY:Transformando con Coherencia: Desarrollo de Habilidades Alfa.
DESCRIPTION:En «Transformando con Coherencia: Desarrollo de Habilidades Alfa»\, aprenderemos y practicaremos estrategias de coherencia organizacional\, así como de ciertas habilidades que son clave para nuestro desarrollo y el desarrollo de nuestros equipos y organizaciones. \nCOSTO:  \nAfiliados 60.00 + IVA \nNo afiliados 75.00 + IVA \n  \nPago mediante transferencia:  \nCámara de Industrias Producción y Empleo \nBanco de Guayaquil \nCuenta Corriente \nRUC: 0190120473001 \nN°. de Cuenta 49000278 \ncorreo: tesoreria@cipem.org.ec
URL:https://cipem.org.ec/evento/transformando-con-coherencia-desarrollo-de-habilidades-alfa/
ATTACH;FMTTYPE=image/jpeg:https://cipem.org.ec/wp-content/uploads/2023/09/WhatsApp-Image-2023-09-05-at-9.15.56-AM.jpeg
END:VEVENT
BEGIN:VEVENT
DTSTART;TZID=America/New_York:20230915T090000
DTEND;TZID=America/New_York:20230915T110000
DTSTAMP:20260422T152847
CREATED:20230912T144812Z
LAST-MODIFIED:20230912T144812Z
UID:10000009-1694768400-1694775600@cipem.org.ec
SUMMARY:REFORMA A LA JUBILACIÓN PATRONAL
DESCRIPTION:
URL:https://cipem.org.ec/evento/reforma-a-la-jubilacion-patronal/
ATTACH;FMTTYPE=image/jpeg:https://cipem.org.ec/wp-content/uploads/2023/09/WhatsApp-Image-2023-09-07-at-8.44.40-AM.jpeg
END:VEVENT
BEGIN:VEVENT
DTSTART;TZID=America/New_York:20230906T090000
DTEND;TZID=America/New_York:20230906T103000
DTSTAMP:20260422T152847
CREATED:20230822T143948Z
LAST-MODIFIED:20230905T210735Z
UID:10000005-1693990800-1693996200@cipem.org.ec
SUMMARY:MENTORING ACTIVO: FIDELIZANDO AL PERSONAL
DESCRIPTION:20 cupos disponibles para empresas afiliadas a CIPEM
URL:https://cipem.org.ec/evento/mentoring-activo-fidelizando-al-personal/
LOCATION:Hotel Oro Verde\, Cuenca\, Ordoñez Lasso\, Cuenca\, Azuay\, EC010150\, Ecuador
ATTACH;FMTTYPE=image/jpeg:https://cipem.org.ec/wp-content/uploads/2023/08/WhatsApp-Image-2023-08-21-at-9.46.47-AM.jpeg
END:VEVENT
BEGIN:VEVENT
DTSTART;TZID=America/New_York:20230714T080000
DTEND;TZID=America/New_York:20230714T170000
DTSTAMP:20260422T152847
CREATED:20230623T202511Z
LAST-MODIFIED:20230623T202730Z
UID:10000003-1689321600-1689354000@cipem.org.ec
SUMMARY:Productos financieros para empresas ecuatorianas
DESCRIPTION:20 cupos disponibles para empresas afiliadas a CIPEM
URL:https://cipem.org.ec/evento/productos-financieros-para-empresas-ecuatorianas/
LOCATION:Hotel Oro Verde\, Cuenca\, Ordoñez Lasso\, Cuenca\, Azuay\, EC010150\, Ecuador
ATTACH;FMTTYPE=image/jpeg:https://cipem.org.ec/wp-content/uploads/2023/06/cipem-evento-cee.jpg
END:VEVENT
BEGIN:VEVENT
DTSTART;VALUE=DATE:20230528
DTEND;VALUE=DATE:20230529
DTSTAMP:20260422T152847
CREATED:20230426T151204Z
LAST-MODIFIED:20230519T203419Z
UID:10000001-1685232000-1685318399@cipem.org.ec
SUMMARY:La Mujer y la Empresa\, ¿cómo cumplir mis objetivos profesionales?
DESCRIPTION:Las mujeres en el campo de los negocios han construido sus propias rutas con una agenda que muchas veces es silenciosa\, incómoda y sujeta a la sintonía social\, política y económica del momento. Esas mujeres que han trizado esquemas y que hoy en día representan lo que nuevas generaciones dan por sentado\, son las que comparten su experiencia\, vivencia y guían desde la perspectiva femenina a crear y fortalecer el actuar empresarial\, interesándose\, formándose y siendo totalmente capaces de ser líderes en su gestión. \nLink Evento Aquí
URL:https://cipem.org.ec/evento/la-mujer-y-la-empresa-como-cumplir-mis-objetivos-profesionales/
LOCATION:Cámara de industrias\, Florencia Astudillo Edificio Cámara de Industiras\, Cuenca\, Azuay\, 010204\, Ecuador
ATTACH;FMTTYPE=image/jpeg:https://cipem.org.ec/wp-content/uploads/2023/04/CIPEM-LA-MUJER-Y-LA-EMPRESA.jpg
END:VEVENT
BEGIN:VEVENT
DTSTART;VALUE=DATE:20230527
DTEND;VALUE=DATE:20230528
DTSTAMP:20260422T152847
CREATED:20230426T152522Z
LAST-MODIFIED:20230519T203455Z
UID:10000002-1685145600-1685231999@cipem.org.ec
SUMMARY:Cercanos a ti. Desayuno anual de afiliados CIPEM
DESCRIPTION:Este espacio presentó nuestro renovado brochure de servicios\, beneficios y proyectos\, con el fin de apoyar a nuestros afiliados en el desarrollo de sus buenas prácticas del quehacer empresarial\, los negocios y otros asuntos de interés. Además Santiago Basabe nos expuso los temas más relevantes en torno al panorama político: escenarios y desafíos para el sector productivo. \nLink Evento Aquí
URL:https://cipem.org.ec/evento/cercanos-a-ti-desayuno-anual-de-afiliados-cipem/
LOCATION:Cámara de industrias\, Florencia Astudillo Edificio Cámara de Industiras\, Cuenca\, Azuay\, 010204\, Ecuador
ATTACH;FMTTYPE=image/jpeg:https://cipem.org.ec/wp-content/uploads/2023/04/CIPEM-CERCANOS-A-TI.jpg
END:VEVENT
END:VCALENDAR